BEGIN:VCALENDAR
VERSION:2.0
PRODID:-//Father Matters - ECPv6.15.20//NONSGML v1.0//EN
CALSCALE:GREGORIAN
METHOD:PUBLISH
X-WR-CALNAME:Father Matters
X-ORIGINAL-URL:https://fathermatters.org
X-WR-CALDESC:Events for Father Matters
REFRESH-INTERVAL;VALUE=DURATION:PT1H
X-Robots-Tag:noindex
X-PUBLISHED-TTL:PT1H
BEGIN:VTIMEZONE
TZID:America/Phoenix
BEGIN:STANDARD
TZOFFSETFROM:-0700
TZOFFSETTO:-0700
TZNAME:MST
DTSTART:20250101T000000
END:STANDARD
END:VTIMEZONE
BEGIN:VEVENT
DTSTART;TZID=America/Phoenix:20260725T210000
DTEND;TZID=America/Phoenix:20260725T220000
DTSTAMP:20260421T143408
CREATED:20260329T193427Z
LAST-MODIFIED:20260329T193427Z
UID:8903-1785013200-1785016800@fathermatters.org
SUMMARY:The Father Matters Show with Vance Simms
DESCRIPTION:Tune into the Father Matters Show with Vance Simms\, on Faith Talk 1360am KPXQ \, every Saturday at 9 PM. This great program hosts guests from across the state and nation; covering a range of topics applicable to all our partners and community members . \nAlso\, tune in every Tuesday at 10AM Mountain Standard Time by logging onto the nationally syndicated \nSoundCloud \nFather Matters is committed to building stronger\, healthier communities by supporting\, encouraging and enlightening today’s fathers and families. The Father Matters show with Vance Simms. \nFather Matters · Father Fest Interview
URL:https://fathermatters.org/event/the-father-matters-show-with-vance-simms-07-25-26-2/
CATEGORIES:Radio Show
ATTACH;FMTTYPE=image/jpeg:https://fathermatters.org/wp-content/uploads/2026/04/FM-Radio-Show-7-18-button-4.jpg
END:VEVENT
END:VCALENDAR